BEGIN:VCALENDAR
VERSION:2.0
PRODID:-//Cocaine Anonymous Holland - ECPv6.15.20//NONSGML v1.0//EN
CALSCALE:GREGORIAN
METHOD:PUBLISH
X-WR-CALNAME:Cocaine Anonymous Holland
X-ORIGINAL-URL:https://ca-holland.nl
X-WR-CALDESC:Evenementen voor Cocaine Anonymous Holland
REFRESH-INTERVAL;VALUE=DURATION:PT1H
X-Robots-Tag:noindex
X-PUBLISHED-TTL:PT1H
BEGIN:VTIMEZONE
TZID:Europe/Amsterdam
BEGIN:DAYLIGHT
TZOFFSETFROM:+0100
TZOFFSETTO:+0200
TZNAME:CEST
DTSTART:20240331T010000
END:DAYLIGHT
BEGIN:STANDARD
TZOFFSETFROM:+0200
TZOFFSETTO:+0100
TZNAME:CET
DTSTART:20241027T010000
END:STANDARD
BEGIN:DAYLIGHT
TZOFFSETFROM:+0100
TZOFFSETTO:+0200
TZNAME:CEST
DTSTART:20250330T010000
END:DAYLIGHT
BEGIN:STANDARD
TZOFFSETFROM:+0200
TZOFFSETTO:+0100
TZNAME:CET
DTSTART:20251026T010000
END:STANDARD
BEGIN:DAYLIGHT
TZOFFSETFROM:+0100
TZOFFSETTO:+0200
TZNAME:CEST
DTSTART:20260329T010000
END:DAYLIGHT
BEGIN:STANDARD
TZOFFSETFROM:+0200
TZOFFSETTO:+0100
TZNAME:CET
DTSTART:20261025T010000
END:STANDARD
END:VTIMEZONE
BEGIN:VEVENT
DTSTART;TZID=Europe/Amsterdam:20251227T110000
DTEND;TZID=Europe/Amsterdam:20251227T170000
DTSTAMP:20260419T134941
CREATED:20250923T193818Z
LAST-MODIFIED:20251128T193333Z
UID:66584-1766833200-1766854800@ca-holland.nl
SUMMARY:In-between the holidays 'Come together'
DESCRIPTION:De herfst is officieel begonnen!\nDe blaadjes vallen van de bomen en de plannen voor de feestdagen beginnen te komen. Het klinkt vroeg maar nooit te vroeg om een goeie dag met herstel te plannen. Na het succes van vorig jaar\, gaan we het dit jaar nog een keer overdoen! De zaterdag tussen kerst en de jaarwisseling bomvol gepland met herstel. Iedereen is welkom op 27 December 2025 vanaf 11:00! \nLocatie\nDe locatie is dit jaar elders\, direct naast Station Osseveld in Apeldoorn met een geheel eigen parkeerterrein. \nTot dan!
URL:https://ca-holland.nl/ca-evenementen/in-between-the-holidays-come-together/
LOCATION:Apeldoorn\, Ravelijn 55\, Apeldroom\, 7325 NT
CATEGORIES:Event
ATTACH;FMTTYPE=image/jpeg:https://ca-holland.nl/wp-content/uploads/28-December-Flyer_20250909_175629_0000.jpg
END:VEVENT
END:VCALENDAR