BEGIN:VCALENDAR
VERSION:2.0
PRODID:-//Cocaine Anonymous Holland - ECPv6.15.20//NONSGML v1.0//EN
CALSCALE:GREGORIAN
METHOD:PUBLISH
X-ORIGINAL-URL:https://ca-holland.nl
X-WR-CALDESC:Evenementen voor Cocaine Anonymous Holland
REFRESH-INTERVAL;VALUE=DURATION:PT1H
X-Robots-Tag:noindex
X-PUBLISHED-TTL:PT1H
BEGIN:VTIMEZONE
TZID:Europe/Amsterdam
BEGIN:DAYLIGHT
TZOFFSETFROM:+0100
TZOFFSETTO:+0200
TZNAME:CEST
DTSTART:20240331T010000
END:DAYLIGHT
BEGIN:STANDARD
TZOFFSETFROM:+0200
TZOFFSETTO:+0100
TZNAME:CET
DTSTART:20241027T010000
END:STANDARD
BEGIN:DAYLIGHT
TZOFFSETFROM:+0100
TZOFFSETTO:+0200
TZNAME:CEST
DTSTART:20250330T010000
END:DAYLIGHT
BEGIN:STANDARD
TZOFFSETFROM:+0200
TZOFFSETTO:+0100
TZNAME:CET
DTSTART:20251026T010000
END:STANDARD
BEGIN:DAYLIGHT
TZOFFSETFROM:+0100
TZOFFSETTO:+0200
TZNAME:CEST
DTSTART:20260329T010000
END:DAYLIGHT
BEGIN:STANDARD
TZOFFSETFROM:+0200
TZOFFSETTO:+0100
TZNAME:CET
DTSTART:20261025T010000
END:STANDARD
BEGIN:DAYLIGHT
TZOFFSETFROM:+0100
TZOFFSETTO:+0200
TZNAME:CEST
DTSTART:20270328T010000
END:DAYLIGHT
BEGIN:STANDARD
TZOFFSETFROM:+0200
TZOFFSETTO:+0100
TZNAME:CET
DTSTART:20271031T010000
END:STANDARD
END:VTIMEZONE
BEGIN:VEVENT
DTSTART;TZID=Europe/Amsterdam:20250321T213000
DTEND;TZID=Europe/Amsterdam:20250321T233000
DTSTAMP:20260420T020253
CREATED:20250203T134816Z
LAST-MODIFIED:20250218T064817Z
UID:65446-1742592600-1742599800@ca-holland.nl
SUMMARY:PI Pub Quiz
DESCRIPTION:Op 21 maart 2025 is het tijd voor de PI Pub Quiz. Met muziek\, hapjes\, prijzen en drankjes. Prijs is 5 euro per persoon en je kunt je aanmelden bij Pelle op telefoonnummer (06) 4038 6596. Het adres is Amatist 13 in Heerhugowaard.
URL:https://ca-holland.nl/ca-evenementen/pi-pub-quiz/
LOCATION:Heerhugowaard\, Amatist 13\, Nederland
CATEGORIES:Event
END:VEVENT
BEGIN:VEVENT
DTSTART;TZID=Europe/Amsterdam:20250405T130000
DTEND;TZID=Europe/Amsterdam:20250405T190000
DTSTAMP:20260420T020253
CREATED:20250203T135451Z
LAST-MODIFIED:20250218T065317Z
UID:65450-1743858000-1743879600@ca-holland.nl
SUMMARY:Van het duister naar het licht
DESCRIPTION:Een middagvullend programma dat in het teken zal staan van de nieuwkomer. Tijdens deze middag zullen er 2 sprekers zijn die stap 2/3 zullen toelichten. Gevolgd met over de streep door middel van stellingen en we sluiten de middag af met een geheel verzorgde BBQ. Tickets kosten 5 euro per persoon. Dit event wordt georganiseerd door District Oost en vindt plaats op 5 april tussen 13:00 en 19:00 op de Breitnerlaan 5 in Helmond. \nAanmelden kan via Sarah (06) 1255 1250 of via Noortje (06) 4123 7607. \n 
URL:https://ca-holland.nl/ca-evenementen/van-het-duister-naar-het-licht/
LOCATION:Helmond\, Berkendonk 91\, Helmond\, 5703 KB\, Nederland
CATEGORIES:Event
END:VEVENT
BEGIN:VEVENT
DTSTART;TZID=Europe/Amsterdam:20250420T120000
DTEND;TZID=Europe/Amsterdam:20250420T170000
DTSTAMP:20260420T020253
CREATED:20250408T214239Z
LAST-MODIFIED:20250408T214239Z
UID:65837-1745150400-1745168400@ca-holland.nl
SUMMARY:PAASBRUNCH C.A.
DESCRIPTION:De paasbrunch die wordt georganiseerd op eerste paasdag is een fundraiser voor de C.A. Holland Conventie ‘A New Freedom’. Dit event vindt plaats op zondag 20 april\, tussen 12:00 en 17:00 op de Escamplaan 61F in Den Haag. Er wordt lekker eten geregeld voor de brunch en daarnaast bestaat het programma uit een stilte wandeling\, een loterij\, een meeting en natuurlijk heel veel gezelligheid. Je kunt je aanmelden via deze link en voor €2\,50 heb je al een kaartje. Wil jij ook aansluiten bij dit toffe event? Koop dat snel je kaartje zodat wij al aan de slag kunnen gaan met de inkoop voor het event!  We kijken uit naar je komst. Voor meer informatie neem contact op via: 06 38705962
URL:https://ca-holland.nl/ca-evenementen/paasbrunch-c-a/
LOCATION:Escamplaan 61F Denhaag\, Escamplaan 61F\, Den Haag\, Nederland
CATEGORIES:Event
END:VEVENT
BEGIN:VEVENT
DTSTART;TZID=Europe/Amsterdam:20250503T080000
DTEND;TZID=Europe/Amsterdam:20250503T220000
DTSTAMP:20260420T020253
CREATED:20250327T154538Z
LAST-MODIFIED:20250327T154748Z
UID:65760-1746259200-1746309600@ca-holland.nl
SUMMARY:C.A. STAMP FEESTJE
DESCRIPTION:In Westervoort wordt er dit jaar op 3 mei een stamp feestje georganiseerd met 90’s dance muziek\, hardstyle classics en hardcore classics. Heb jij ook zin een feestje? Kom dan tussen 18:30 en 20:00 naar de Rosmolen 27 in Westervoort. Het is €5\,- per persoon inclusief. Aanmelden kan bij Sandy via het nummer 06 42172088. Dit event wordt georganiseerd door C.A. District Oost. \nDe line-up is:\n20:00 – DJ Endonyx\n21:00 – DJ Justin Rehab\n22:00 – DJ Graat \nWe kijken uit naar je komst!
URL:https://ca-holland.nl/ca-evenementen/ca-stamp-feestje/
LOCATION:de Rosmolen 27 in Westervoort\, De Rosmolen 27\, Westervoort\, Nederland
CATEGORIES:Event
END:VEVENT
BEGIN:VEVENT
DTSTART;TZID=Europe/Amsterdam:20250504T100000
DTEND;TZID=Europe/Amsterdam:20250504T180000
DTSTAMP:20260420T020253
CREATED:20250408T220059Z
LAST-MODIFIED:20250408T220059Z
UID:65841-1746352800-1746381600@ca-holland.nl
SUMMARY:FIETSTOCHT IN AMSTERDAM
DESCRIPTION:Op 4 mei wordt er tussen 10:00 en 18:00 er een fietstocht georganiseerd in Amsterdam! Tijdens deze fietstocht fietsen we naar het recreatiegebied het Twiske en terug. Daarnaast gaan we samen picknicken met behulp van een American style picknick. Dus neem allemaal je fiets en wat lekkers mee en bereid je voor op een geweldige dag! \nVoor meet informatie kun je contact opnemen met Isabella via:  06 23850995
URL:https://ca-holland.nl/ca-evenementen/fietstocht-in-amsterdam/
LOCATION:Recreatiegebied het Twiske\, Recreatiegebied het Twiske
CATEGORIES:Event
END:VEVENT
BEGIN:VEVENT
DTSTART;TZID=Europe/Amsterdam:20250510T100000
DTEND;TZID=Europe/Amsterdam:20250510T170000
DTSTAMP:20260420T020253
CREATED:20250322T065443Z
LAST-MODIFIED:20250322T065551Z
UID:65738-1746871200-1746896400@ca-holland.nl
SUMMARY:C.A. Unity Day - Where Three Countries Meet
DESCRIPTION:C.A. Unity Day – Where Three Countries Meet \nBij dit event komen er twee sprekers uit Nederland\, twee uit België en twee uit Duitsland spreken! Iedereen is van harte welkom op zaterdag 10 mei tussen 10:00 en 17:00. Het event vindt plaats op de John F. Kennedylaan 301 in Heerlen\, Nederland. Entree is €5\,- per persoon. \nVoor meer informatie kun je contact opnemen met de volgende contactpersonen:\nNederland: Marc +31618728556\nBelgië: Tim +32499163007\nDuitsland: Pierre +491722904536 \n 
URL:https://ca-holland.nl/ca-evenementen/c-a-unity-day-where-three-countries-meet/
LOCATION:Heerlen\, John F. Kennedylaan 301\, Heerlen\, 6419XZ
CATEGORIES:Event
END:VEVENT
BEGIN:VEVENT
DTSTART;TZID=Europe/Amsterdam:20250525T100000
DTEND;TZID=Europe/Amsterdam:20250525T170000
DTSTAMP:20260420T020253
CREATED:20250415T100053Z
LAST-MODIFIED:20250415T100053Z
UID:65863-1748167200-1748192400@ca-holland.nl
SUMMARY:WORKSHOP 12 TRADITIES C.A.
DESCRIPTION:Op 25 mei 2025 wordt er door district-oost een workshop dag georganiseerd over de 12 tradities van C.A.! Het programma begint om 10:00 en eindigt om 17:00 waarbij alle tradities aanbod komen met behulp van de sprekers Marcel en Nikita. Een kaartje kost €5\,- en is inclusief lunch. De workshop vindt plaats op Van Verschuerplein 16A in Arnhem. Meld je aan via 06 14283900. We kijken uit naar je komst!
URL:https://ca-holland.nl/ca-evenementen/workshop-12-tradities-c-a/
LOCATION:Arnhem\, Van Verschuerplein 16A\, Arnhem\, Nederland
CATEGORIES:Event,Workshop
END:VEVENT
BEGIN:VEVENT
DTSTART;VALUE=DATE:20250627
DTEND;VALUE=DATE:20250630
DTSTAMP:20260420T020253
CREATED:20250203T133445Z
LAST-MODIFIED:20250218T065642Z
UID:65443-1750982400-1751241599@ca-holland.nl
SUMMARY:Campingweekend Lage Zwaluwe 2025
DESCRIPTION:Kom naar de C.A.-campingweekend in Lage Zwaluwe op 27\, 28 en 29 juni 2025. Meld je aan via onze website
URL:https://ca-holland.nl/ca-evenementen/campingweekend-lage-zwaluwe-2025/
LOCATION:Lage Zwaluwe\, Groenedijk 35\, Lage Zwaluwe\, Nederland
CATEGORIES:Event
END:VEVENT
BEGIN:VEVENT
DTSTART;VALUE=DATE:20250629
DTEND;VALUE=DATE:20250630
DTSTAMP:20260420T020253
CREATED:20250423T104545Z
LAST-MODIFIED:20250423T104545Z
UID:65905-1751155200-1751241599@ca-holland.nl
SUMMARY:C.A. Holland Voetbaltoernooi
DESCRIPTION:Het is weer zover! Het C.A. Holland Voetbaltoernooi vindt deze zomer weer plaats! Wil je mee voetballen? Of gezellig mee doen met de BBQ? Aanmelden kan tot 13 juni. Meld je nu aan via deze link\, want vol = vol. \nHet voetbal toernooi wordt gehouden op 29 juni bij de sportvereniging V.U.C. Den Haag (Het Kleine Loo 1\, 2592 BW Den Haag). Voor vragen mail naar cavoetbaltoernooi@gmail.com of bel Sem via het nummer 06 15424387. We kijken uit naar je komst! \nILAS\,\nHet serviceteam
URL:https://ca-holland.nl/ca-evenementen/c-a-holland-voetbaltoernooi/
LOCATION:Den Haag\, Het Kleine Loo 1\, Den Haag\, 2592 BW\, Nederland
CATEGORIES:Event
END:VEVENT
BEGIN:VEVENT
DTSTART;TZID=Europe/Amsterdam:20250705T093000
DTEND;TZID=Europe/Amsterdam:20250705T153000
DTSTAMP:20260420T020253
CREATED:20250530T070835Z
LAST-MODIFIED:20250530T070835Z
UID:66075-1751707800-1751729400@ca-holland.nl
SUMMARY:Workshop Stappen 1\, 2\, 3 & Historie
DESCRIPTION:De C.A. Spiritueel Ontwaken Meeting organiseert een workshop over stap 1\, 2\, 3 en de historie. Sluit aan bij een dag vol sprekers\, workshops\, uitleg over de historie en een quiz. Jullie zijn van harte welkom op 5 juli tussen 09:30 en 15:30 in de Dorpskerk de Bilt (Dorpsstraat Vo Steenstraat 90\, 3732 HK\, de Bilt). De workshop is gratis en aanmelden voor dit event kan bij Jaap via een bericht naar +31650610014 of jaapz090766@gmail.com. Tot dan! \n 
URL:https://ca-holland.nl/ca-evenementen/workshop-stappen-1-2-3-historie/
LOCATION:Dorpskerk De Bilt\, Dorpsstraat Vo Steenstraat 90\, Bilt\, 3732 HK\, Nederland
CATEGORIES:Event,Workshop
ATTACH;FMTTYPE=image/jpeg:https://ca-holland.nl/wp-content/uploads/WhatsApp-Image-2025-05-30-at-07.31.35.jpeg
END:VEVENT
BEGIN:VEVENT
DTSTART;TZID=Europe/Amsterdam:20250802T140000
DTEND;TZID=Europe/Amsterdam:20250802T220000
DTSTAMP:20260420T020253
CREATED:20250205T085435Z
LAST-MODIFIED:20250218T070956Z
UID:65487-1754143200-1754172000@ca-holland.nl
SUMMARY:Forest food en Fun festival
DESCRIPTION:Forest\, Food & Fun Festival. Een dag vol plezier\, een BBQ\, spelletjes en muziek. Wil je meedoen met levend stratego? Geef dat dan aan bij je aanmelding (vanaf 14+). Je kunt je registreren bij Nick via het telefoonnummer (06) 1111 6208. Entree is €15\,- per persoon en er is een fellow to fellow fonds waar je gebruik van kunt maken. Dit leuke event is op 2 augustus tussen 14:00 en 22:00 en het adres is Zeestraat 285\, 1943 AC in Beverwijk. Tot dan!
URL:https://ca-holland.nl/ca-evenementen/forest-food-en-fun-festival/
LOCATION:Beverwijk\, Zeestraat 285\, Beverwijk\, 1943 AC\, Nederland
CATEGORIES:Event
END:VEVENT
BEGIN:VEVENT
DTSTART;TZID=Europe/Amsterdam:20250815T000000
DTEND;TZID=Europe/Amsterdam:20250815T000000
DTSTAMP:20260420T020253
CREATED:20250322T070403Z
LAST-MODIFIED:20250327T154923Z
UID:65743-1755216000-1755216000@ca-holland.nl
SUMMARY:C.A. Got Talent - C.A. Holland Conventie 2025
DESCRIPTION:Tijdens de C.A. Holland Conventie 2025 wordt er op 15 augustus een C.A. talentenshow georganiseerd. Heb jij het in je? Wil jij graag meedoen en je talenten laten shinen bij je fellows? Meld je dan aan via cagottalent2025@gmail.com. Inschrijven kan tot 25-07-2025. Geef door je naam\, act\, act naam\, telefoonnummer\, email adres en of je gebruik maakt van licht en of geluid. We kijken er naar uit je te zien!
URL:https://ca-holland.nl/ca-evenementen/c-a-got-talent-c-a-holland-conventie-2025/
LOCATION:Hotel NH Noordwijk Conference Centre Leeuwenhors\, Langelaan 3\, Noordwijkerhout\, Noord Holland\, 2211XT\, Nederland
CATEGORIES:Conventie,Event
ATTACH;FMTTYPE=image/jpeg:https://ca-holland.nl/wp-content/uploads/WhatsApp-Image-2025-03-24-at-13.34.56.jpeg
END:VEVENT
BEGIN:VEVENT
DTSTART;TZID=Europe/Amsterdam:20250816T000000
DTEND;TZID=Europe/Amsterdam:20250816T000000
DTSTAMP:20260420T020253
CREATED:20250328T180717Z
LAST-MODIFIED:20250328T180914Z
UID:65769-1755302400-1755302400@ca-holland.nl
SUMMARY:Cocaine Anonymous Dance Event - C.A. Holland Conventie
DESCRIPTION:Tijdens de C.A. Holland Conventie 2025 wordt er op 16 augustus een C.A. dance event georganiseerd. Heb jij zin om goed uit je plaat te gaan op een lekkere plaat? Koop dan snel een kaartje voor de conventie via: https://ca-conventie.nl/. \n 
URL:https://ca-holland.nl/ca-evenementen/cocaine-anonymous-dance-event-c-a-holland-conventie/
LOCATION:Hotel NH Noordwijk Conference Centre Leeuwenhors\, Langelaan 3\, Noordwijkerhout\, Noord Holland\, 2211XT\, Nederland
CATEGORIES:Conventie,Event
ATTACH;FMTTYPE=image/jpeg:https://ca-holland.nl/wp-content/uploads/WhatsApp-Image-2025-03-28-at-18.34.40.jpeg
END:VEVENT
BEGIN:VEVENT
DTSTART;TZID=Europe/Amsterdam:20250821T190000
DTEND;TZID=Europe/Amsterdam:20250821T210000
DTSTAMP:20260420T020253
CREATED:20250806T211118Z
LAST-MODIFIED:20250806T211118Z
UID:66400-1755802800-1755810000@ca-holland.nl
SUMMARY:KAMPVUURMEETING - FROM HELL TO GOD - RAAMSDONKSVEER
DESCRIPTION:Er wordt een kampvuurmeeting georganiseerd door C.A Raamsdonksveer op 21 augustus tussen 19:00 en 21:00. Er komen twee fellows spreken rondom het kampvuur over het topic: ‘From hell to God”. En naasten zijn ook van harte welkom. Het is gratis en aanmelden is niet nodig. Bij vragen kun je contact opnemen via het nummer: 0634181112. \nAdres: Oosterhoutseweg 18A\, Raamsdonksveer.
URL:https://ca-holland.nl/ca-evenementen/kampvuurmeeting-from-hell-to-god-raamsdonksveer/
LOCATION:Oosterhoutseweg 18A\, Raamsdonksveer\, Oosterhoutseweg 18A\, Raamsdonksveer.
CATEGORIES:Event
ATTACH;FMTTYPE=image/png:https://ca-holland.nl/wp-content/uploads/1000162906-1.png
END:VEVENT
BEGIN:VEVENT
DTSTART;TZID=Europe/Amsterdam:20250907T130000
DTEND;TZID=Europe/Amsterdam:20250907T200000
DTSTAMP:20260420T020253
CREATED:20250528T221251Z
LAST-MODIFIED:20250528T222303Z
UID:66068-1757250000-1757275200@ca-holland.nl
SUMMARY:C.A. Holland 25 Jaar Jubileum
DESCRIPTION:Dit jaar vieren we een bijzondere mijlpaal: 25 jaar CA! Een moment om stil te staan bij alles wat we samen hebben opgebouwd – en om dat natuurlijk samen te vieren. \nDe BBQ’s van voorgaande jaren waren een groot succes\, vol verbinding\, gezelligheid en goede gesprekken. Dit jaar doen we daar nog een schepje bovenop\, met een feestelijke jubileumeditie onder het motto: “A New Freedom.” \nAls afsluiter van de zomerevents knallen wij de herfst in.\nBELANGRIJK OM MEE TE NEMEN!!!:\nJe goede humeur\, je zwembroek maar vooral de NIEUWKOMER!!! Want uiteindelijk is dat waar het om draait\, de boodschap door geven zodat zij\, net als wij\, een nieuwe vrijheid zullen kennen!\n💚ILAS \nAanmelden kan via WHATSAPP: 06 38 02 74 49
URL:https://ca-holland.nl/ca-evenementen/c-a-holland-25-jaar-jubileum/
LOCATION:Delft\, Delftse Hout Parkeerplaats 2\, Delft\, 2616 LH\, Nederland
CATEGORIES:Event
ATTACH;FMTTYPE=image/jpeg:https://ca-holland.nl/wp-content/uploads/IMG_4021.jpeg
END:VEVENT
BEGIN:VEVENT
DTSTART;TZID=Europe/Amsterdam:20250907T140000
DTEND;TZID=Europe/Amsterdam:20250907T210000
DTSTAMP:20260420T020253
CREATED:20250701T164306Z
LAST-MODIFIED:20250701T164306Z
UID:66227-1757253600-1757278800@ca-holland.nl
SUMMARY:KAMPVUURMEETING & WORKSHOP STAP 4 en 5
DESCRIPTION:Er wordt een kampvuurmeeting georganiseerd door District Oost\, op zondag 7 september\, tijdens volle maan. De inloop van het event start om 14:30. Er is een workshop over stap 4 en 5 en een sprekersmeeting rondom het kampvuur. Om 21:00 eindigt het evenement. De toegang is €5\,- per persoon en koffie\, thee en avondeten is inbegrepen! Iedereen is van harte welkom. Tot dan! \nDe locatie is Berkendonk 91\, 5703 KB in Helmond en aanmelden kan via Sarah: 0612551250 of Sandy: 0642172088.
URL:https://ca-holland.nl/ca-evenementen/kampvuurmeeting-workshop-stap-4-en-5/
LOCATION:Helmond\, Berkendonk 91\, Helmond\, 5703 KB\, Nederland
CATEGORIES:Event,Workshop
END:VEVENT
BEGIN:VEVENT
DTSTART;TZID=Europe/Amsterdam:20250913T120000
DTEND;TZID=Europe/Amsterdam:20250913T180000
DTSTAMP:20260420T020253
CREATED:20250806T210333Z
LAST-MODIFIED:20250806T210452Z
UID:66393-1757764800-1757786400@ca-holland.nl
SUMMARY:C.A. ALKMAAR 15 JAAR BESTAAN
DESCRIPTION:C.A. Alkmaar bestaat 15 jaar en dat vieren wij tijdens een BBQ! Iedreen is welkom. Het event is op 13 september\, van 12:00 tot 18:00\, op de Klaregroetweg 6 in Geestmerambacht. Kaartjes kosten 12\,50 per persoon en kunnen worden gekocht voor contact op te nemen met het nummer: 0623629662. \nWe hopen je te zien bij de BBQ! \nP.S: Er zijn vegan opties beschikbaar en neem je eigen stoel mee.
URL:https://ca-holland.nl/ca-evenementen/c-a-alkmaar-15-jaar-bestaan/
LOCATION:Klaregroetweg 6\, Geestmerambacht\, Klaregroetweg 6 in Geestmerambacht
CATEGORIES:Event
END:VEVENT
BEGIN:VEVENT
DTSTART;TZID=Europe/Amsterdam:20251004T183000
DTEND;TZID=Europe/Amsterdam:20251004T233000
DTSTAMP:20260420T020253
CREATED:20250806T212553Z
LAST-MODIFIED:20250810T150753Z
UID:66404-1759602600-1759620600@ca-holland.nl
SUMMARY:C.A. STAMPFEESTJE
DESCRIPTION:In Westervoort wordt er dit jaar op 4 oktober een stamp feestje georganiseerd met freestyle\, millennium hardcore en early hardcore. Heb jij ook zin een feestje? Kom dan tussen 18:30 en 20:00 voor de spreaker meeting en daarna tot 22:00 voor de knallende muziek. Het event wordt gehouden op de Rosmolen 27 in Westervoort. Het is €5\,- per persoon\, inclusief. Aanmelden kan bij Esther via het nummer 0622720783. Dit event wordt georganiseerd door C.A. District Oost. \nDe line-up is:\n20:00 – DJ Addict\n21:00 – DJ Endonyx\n22:00 – DJ Apraxia \nWe gaan los! Kom je mee?
URL:https://ca-holland.nl/ca-evenementen/c-a-stampfeestje/
LOCATION:de Rosmolen 27 in Westervoort\, De Rosmolen 27\, Westervoort\, Nederland
CATEGORIES:Event
ATTACH;FMTTYPE=image/jpeg:https://ca-holland.nl/wp-content/uploads/WhatsApp-Image-2025-08-10-at-12.38.29.jpeg
END:VEVENT
BEGIN:VEVENT
DTSTART;TZID=Europe/Amsterdam:20251025T100000
DTEND;TZID=Europe/Amsterdam:20251025T170000
DTSTAMP:20260420T020253
CREATED:20250908T132755Z
LAST-MODIFIED:20250912T083314Z
UID:66532-1761386400-1761411600@ca-holland.nl
SUMMARY:Big Book C.A. Workshop
DESCRIPTION:Op 25 oktober wordt er een Big Book C.A. workshop georganiseerd!\nDeze workshop is gericht op stap 10\, 11 en 12. We hebben voor deze workshop Mike C. uit Slovenië uitgenodigd. Iedereen is welkom! Het event is tussen 09:30 en 17:00\, op het adres Boerhaavelaan 11-33 in Zoetermeer. Een kaartje is €5\,- per persoon en parkeren is gratis. Om een kaartje te kopen of voor meer informatie kun je contact opnemen met het nummer: 0652567135 of mail naar recoveryworkshops2025@gmail.com.\nWe hopen je daar te zien! \nILAS\, Het serviceteam
URL:https://ca-holland.nl/ca-evenementen/big-book-c-a-workshop/
LOCATION:Zoetermeer\, Boerhaavelaan 11-33\, Zoetermeer\, 2713 HA\, Nederland
CATEGORIES:Event,Workshop
ATTACH;FMTTYPE=application/pdf:https://ca-holland.nl/wp-content/uploads/AddressBoerhaavelaan-11-33-1-1.pdf
END:VEVENT
BEGIN:VEVENT
DTSTART;TZID=Europe/Amsterdam:20251129T100000
DTEND;TZID=Europe/Amsterdam:20251129T190000
DTSTAMP:20260420T020253
CREATED:20250912T084855Z
LAST-MODIFIED:20251128T193130Z
UID:66546-1764410400-1764442800@ca-holland.nl
SUMMARY:C.A. Vrouwendag 2025 - The Power of Connection
DESCRIPTION:Lieve vrouwen\, \nOp zaterdag 29 november 2025 vindt de 5e editie van C.A.-Vrouwendag plaats met als thema: “The Power of Connection”. Een dag vol ontmoeting\, inspiratie en verbinding! We hopen je daar te zien! \nLocatie\nKlooster Oude Noorden\, Ruivenstraat 81\, Rotterdam \nTijd\n10:00 – 19:00 uur \nKosten\n€ 15\,- (incl. 2x koffie/thee\, lunch én diner) \nMeld je aan via deze link: https://forms.gle/9cMuiCmxidwsLvbE8\nVoor vragen kun je contact opnemen met Lisette: +31 6 51645599 \n 
URL:https://ca-holland.nl/ca-evenementen/c-a-vrouwendag-2025-the-power-of-connection/
LOCATION:Rotterdam\, Slinge 250\, Rotterdam\, 3085 EX
CATEGORIES:Event,Workshop
ATTACH;FMTTYPE=image/jpeg:https://ca-holland.nl/wp-content/uploads/WhatsApp-Image-2025-09-10-at-22.07.45.jpeg
END:VEVENT
BEGIN:VEVENT
DTSTART;TZID=Europe/Amsterdam:20251226T170000
DTEND;TZID=Europe/Amsterdam:20251226T235900
DTSTAMP:20260420T020253
CREATED:20251021T055939Z
LAST-MODIFIED:20251021T055939Z
UID:66664-1766768400-1766793540@ca-holland.nl
SUMMARY:Power of Love Kerstevent
DESCRIPTION:
URL:https://ca-holland.nl/ca-evenementen/power-of-love-kerstevent/
LOCATION:Vught\, Lidwinastraat 12c\, Vught\, Noord-Brabant\, Nederland
CATEGORIES:Event
ATTACH;FMTTYPE=image/jpeg:https://ca-holland.nl/wp-content/uploads/KerstmisVught02.jpg
END:VEVENT
BEGIN:VEVENT
DTSTART;TZID=Europe/Amsterdam:20251227T110000
DTEND;TZID=Europe/Amsterdam:20251227T170000
DTSTAMP:20260420T020253
CREATED:20250923T193818Z
LAST-MODIFIED:20251128T193333Z
UID:66584-1766833200-1766854800@ca-holland.nl
SUMMARY:In-between the holidays 'Come together'
DESCRIPTION:De herfst is officieel begonnen!\nDe blaadjes vallen van de bomen en de plannen voor de feestdagen beginnen te komen. Het klinkt vroeg maar nooit te vroeg om een goeie dag met herstel te plannen. Na het succes van vorig jaar\, gaan we het dit jaar nog een keer overdoen! De zaterdag tussen kerst en de jaarwisseling bomvol gepland met herstel. Iedereen is welkom op 27 December 2025 vanaf 11:00! \nLocatie\nDe locatie is dit jaar elders\, direct naast Station Osseveld in Apeldoorn met een geheel eigen parkeerterrein. \nTot dan!
URL:https://ca-holland.nl/ca-evenementen/in-between-the-holidays-come-together/
LOCATION:Apeldoorn\, Ravelijn 55\, Apeldroom\, 7325 NT
CATEGORIES:Event
ATTACH;FMTTYPE=image/jpeg:https://ca-holland.nl/wp-content/uploads/28-December-Flyer_20250909_175629_0000.jpg
END:VEVENT
BEGIN:VEVENT
DTSTART;TZID=Europe/Amsterdam:20251231T200000
DTEND;TZID=Europe/Amsterdam:20260101T010000
DTSTAMP:20260420T020253
CREATED:20251205T204524Z
LAST-MODIFIED:20251205T204641Z
UID:66981-1767211200-1767229200@ca-holland.nl
SUMMARY:C.A. Oudejaarsmeeting Deventer & Apeldoorn
DESCRIPTION:Locatie\nCeintuurbaan 111\, 7413 DC Deventer \nDatum\n31 december (oudejaarsavond) 2025 \nTijd\n20.00 uur tot 01.00 uur \nEten & drinken\nSpelletjes\, koffie\, thee\, fris en snacks \nAanmelden\nNiet nodig! Vrije inloop \nContact of vragen\nNancy (06) 49 02 10 39\nClemens (06) 28 65 54 25
URL:https://ca-holland.nl/ca-evenementen/c-a-oudejaarsmeeting-deventer-apeldoorn/
LOCATION:Deventer\, Ceintuurbaan 111\, Deventer\, 7413 DC\, Nederland
CATEGORIES:Event
ATTACH;FMTTYPE=image/webp:https://ca-holland.nl/wp-content/uploads/CA_Flyer_Oudejaarsmeeting_2025_Apeldoorn_Deventer-scaled.webp
END:VEVENT
BEGIN:VEVENT
DTSTART;TZID=Europe/Amsterdam:20260103T110000
DTEND;TZID=Europe/Amsterdam:20260103T170000
DTSTAMP:20260420T020253
CREATED:20251229T115231Z
LAST-MODIFIED:20251229T115344Z
UID:67120-1767438000-1767459600@ca-holland.nl
SUMMARY:Conventievergadering 2026
DESCRIPTION:Wil je service doen en meedenken? Kom dan naar de Conventievergadering op 3 januari 2026 in IJsselstein. Je kan dan mee praten en denken over de invulling van de Area Holland Conventie 2026. \nWil je meer weten?\nNeem dan contact op met (06) 41 25 66 02
URL:https://ca-holland.nl/ca-evenementen/conventievergadering-2026/
LOCATION:IJsselstein\, Merkelbachlaan 2\, IJsselstein\, 3404EX\, Nederland
CATEGORIES:Conventie,Event,Vergadering
ATTACH;FMTTYPE=image/webp:https://ca-holland.nl/wp-content/uploads/conventievergadering-2026.webp
END:VEVENT
BEGIN:VEVENT
DTSTART;TZID=Europe/Amsterdam:20260418T183000
DTEND;TZID=Europe/Amsterdam:20260418T230000
DTSTAMP:20260420T020253
CREATED:20260214T105043Z
LAST-MODIFIED:20260214T105043Z
UID:67171-1776537000-1776553200@ca-holland.nl
SUMMARY:Stampfeestje District Oost - 18 april 2026
DESCRIPTION:Het is weer tijd voor een C.A.-Stampfeestje op 18 april 2026 in Westervoort. \nTime table\n18.30 – 19.50: Speaker meeting\n20.00 – 21.00: Endonyx | Millennium Hardcore\n21.00 – 22.00: Messi4h | Next Gen Hardcore\n22.00 – 23.00: Justin Rehab | Early Hardcore \nAanmelden\nAanmelden kan via Nancy op telefoonnummer: (06) 490 21 039 \nKosten\n€ 7\,50 all inclusive
URL:https://ca-holland.nl/ca-evenementen/stampfeestje-district-oost-18-april-2026/
LOCATION:de Rosmolen 27 in Westervoort\, De Rosmolen 27\, Westervoort\, Nederland
CATEGORIES:Event
ATTACH;FMTTYPE=image/webp:https://ca-holland.nl/wp-content/uploads/stampfeestje-18-april-2026.webp
END:VEVENT
BEGIN:VEVENT
DTSTART;TZID=Europe/Amsterdam:20260425T100000
DTEND;TZID=Europe/Amsterdam:20260425T170000
DTSTAMP:20260420T020253
CREATED:20260418T050233Z
LAST-MODIFIED:20260418T050315Z
UID:67411-1777111200-1777136400@ca-holland.nl
SUMMARY:Traditie Workshop
DESCRIPTION:
URL:https://ca-holland.nl/ca-evenementen/traditie-workshop/
LOCATION:Rotterdam\, Slinge 250\, Rotterdam\, 3085 EX
CATEGORIES:Event
ATTACH;FMTTYPE=image/jpeg:https://ca-holland.nl/wp-content/uploads/9671082a-6481-4b49-9107-0fbbc45c6bad.jpeg
END:VEVENT
BEGIN:VEVENT
DTSTART;TZID=Europe/Amsterdam:20260607T150000
DTEND;TZID=Europe/Amsterdam:20260607T183000
DTSTAMP:20260420T020253
CREATED:20260418T050626Z
LAST-MODIFIED:20260418T050752Z
UID:67414-1780844400-1780857000@ca-holland.nl
SUMMARY:Pubquiz
DESCRIPTION:
URL:https://ca-holland.nl/ca-evenementen/pubquiz/
LOCATION:Berkendonk 91\, Helmond\, Berkendonk 91\, Helmond\, Nederland
CATEGORIES:Event
ATTACH;FMTTYPE=image/jpeg:https://ca-holland.nl/wp-content/uploads/6ab1a890-03ec-41c1-af54-0de80489c510.jpeg
END:VEVENT
BEGIN:VEVENT
DTSTART;VALUE=DATE:20261127
DTEND;VALUE=DATE:20261130
DTSTAMP:20260420T020253
CREATED:20251127T163952Z
LAST-MODIFIED:20251128T192951Z
UID:66918-1795737600-1795996799@ca-holland.nl
SUMMARY:Spirituele Retraite - Jouw eigen voorstelling van God
DESCRIPTION:Wees welkom tijdens deze Nederlandstalige spirituele retraite op 27\, 28 en 29 november 2026 (Officiële Fundraiser C.A. Area Holland Conventie 2027). \nAanmelden\nAanmelden kan via Nico op (06) 2827 9284. \nOvernachten en eten\nMaaltijden zijn inbegrepen\nOvernachten in 1 persoonshamer € 307\,50\nOvernachten in tweepersoonskamer € 535\,- (€ 267\,50 per persoon).
URL:https://ca-holland.nl/ca-evenementen/spirituele-retraite-jouw-eigen-voorstelling-van-god/
LOCATION:Hoeven\, Hofstraat 8\, Hoeven\, 4741 AK\, Nederland
CATEGORIES:Event,Retreat
ATTACH;FMTTYPE=image/webp:https://ca-holland.nl/wp-content/uploads/spirituele-retraitre-november-2025-hoeven.webp
END:VEVENT
END:VCALENDAR