BEGIN:VCALENDAR
VERSION:2.0
PRODID:-//Cocaine Anonymous Holland - ECPv6.15.20//NONSGML v1.0//EN
CALSCALE:GREGORIAN
METHOD:PUBLISH
X-ORIGINAL-URL:https://ca-holland.nl
X-WR-CALDESC:Evenementen voor Cocaine Anonymous Holland
REFRESH-INTERVAL;VALUE=DURATION:PT1H
X-Robots-Tag:noindex
X-PUBLISHED-TTL:PT1H
BEGIN:VTIMEZONE
TZID:Europe/Amsterdam
BEGIN:DAYLIGHT
TZOFFSETFROM:+0100
TZOFFSETTO:+0200
TZNAME:CEST
DTSTART:20240331T010000
END:DAYLIGHT
BEGIN:STANDARD
TZOFFSETFROM:+0200
TZOFFSETTO:+0100
TZNAME:CET
DTSTART:20241027T010000
END:STANDARD
BEGIN:DAYLIGHT
TZOFFSETFROM:+0100
TZOFFSETTO:+0200
TZNAME:CEST
DTSTART:20250330T010000
END:DAYLIGHT
BEGIN:STANDARD
TZOFFSETFROM:+0200
TZOFFSETTO:+0100
TZNAME:CET
DTSTART:20251026T010000
END:STANDARD
BEGIN:DAYLIGHT
TZOFFSETFROM:+0100
TZOFFSETTO:+0200
TZNAME:CEST
DTSTART:20260329T010000
END:DAYLIGHT
BEGIN:STANDARD
TZOFFSETFROM:+0200
TZOFFSETTO:+0100
TZNAME:CET
DTSTART:20261025T010000
END:STANDARD
END:VTIMEZONE
BEGIN:VEVENT
DTSTART;TZID=Europe/Amsterdam:20251129T100000
DTEND;TZID=Europe/Amsterdam:20251129T190000
DTSTAMP:20260420T052205
CREATED:20250912T084855Z
LAST-MODIFIED:20251128T193130Z
UID:66546-1764410400-1764442800@ca-holland.nl
SUMMARY:C.A. Vrouwendag 2025 - The Power of Connection
DESCRIPTION:Lieve vrouwen\, \nOp zaterdag 29 november 2025 vindt de 5e editie van C.A.-Vrouwendag plaats met als thema: “The Power of Connection”. Een dag vol ontmoeting\, inspiratie en verbinding! We hopen je daar te zien! \nLocatie\nKlooster Oude Noorden\, Ruivenstraat 81\, Rotterdam \nTijd\n10:00 – 19:00 uur \nKosten\n€ 15\,- (incl. 2x koffie/thee\, lunch én diner) \nMeld je aan via deze link: https://forms.gle/9cMuiCmxidwsLvbE8\nVoor vragen kun je contact opnemen met Lisette: +31 6 51645599 \n 
URL:https://ca-holland.nl/ca-evenementen/c-a-vrouwendag-2025-the-power-of-connection/
LOCATION:Rotterdam\, Slinge 250\, Rotterdam\, 3085 EX
CATEGORIES:Event,Workshop
ATTACH;FMTTYPE=image/jpeg:https://ca-holland.nl/wp-content/uploads/WhatsApp-Image-2025-09-10-at-22.07.45.jpeg
END:VEVENT
END:VCALENDAR