BEGIN:VCALENDAR
VERSION:2.0
PRODID:-//Cocaine Anonymous Holland - ECPv6.15.20//NONSGML v1.0//EN
CALSCALE:GREGORIAN
METHOD:PUBLISH
X-WR-CALNAME:Cocaine Anonymous Holland
X-ORIGINAL-URL:https://ca-holland.nl
X-WR-CALDESC:Evenementen voor Cocaine Anonymous Holland
REFRESH-INTERVAL;VALUE=DURATION:PT1H
X-Robots-Tag:noindex
X-PUBLISHED-TTL:PT1H
BEGIN:VTIMEZONE
TZID:Europe/Amsterdam
BEGIN:DAYLIGHT
TZOFFSETFROM:+0100
TZOFFSETTO:+0200
TZNAME:CEST
DTSTART:20240331T010000
END:DAYLIGHT
BEGIN:STANDARD
TZOFFSETFROM:+0200
TZOFFSETTO:+0100
TZNAME:CET
DTSTART:20241027T010000
END:STANDARD
BEGIN:DAYLIGHT
TZOFFSETFROM:+0100
TZOFFSETTO:+0200
TZNAME:CEST
DTSTART:20250330T010000
END:DAYLIGHT
BEGIN:STANDARD
TZOFFSETFROM:+0200
TZOFFSETTO:+0100
TZNAME:CET
DTSTART:20251026T010000
END:STANDARD
BEGIN:DAYLIGHT
TZOFFSETFROM:+0100
TZOFFSETTO:+0200
TZNAME:CEST
DTSTART:20260329T010000
END:DAYLIGHT
BEGIN:STANDARD
TZOFFSETFROM:+0200
TZOFFSETTO:+0100
TZNAME:CET
DTSTART:20261025T010000
END:STANDARD
END:VTIMEZONE
BEGIN:VEVENT
DTSTART;VALUE=DATE:20250627
DTEND;VALUE=DATE:20250630
DTSTAMP:20260425T234307
CREATED:20250203T133445Z
LAST-MODIFIED:20250218T065642Z
UID:65443-1750982400-1751241599@ca-holland.nl
SUMMARY:Campingweekend Lage Zwaluwe 2025
DESCRIPTION:Kom naar de C.A.-campingweekend in Lage Zwaluwe op 27\, 28 en 29 juni 2025. Meld je aan via onze website
URL:https://ca-holland.nl/ca-evenementen/campingweekend-lage-zwaluwe-2025/
LOCATION:Lage Zwaluwe\, Groenedijk 35\, Lage Zwaluwe\, Nederland
CATEGORIES:Event
END:VEVENT
END:VCALENDAR